BEGIN:VCALENDAR
VERSION:2.0
PRODID:-//Welcome to Godfrey&#039;s Pond - ECPv4.7.3//NONSGML v1.0//EN
CALSCALE:GREGORIAN
METHOD:PUBLISH
X-WR-CALNAME:Welcome to Godfrey&#039;s Pond
X-ORIGINAL-URL:https://godfreyspond.com
X-WR-CALDESC:Events for Welcome to Godfrey&#039;s Pond
BEGIN:VEVENT
DTSTART;TZID=America/New_York:20230218T090000
DTEND;TZID=America/New_York:20230218T180000
DTSTAMP:20260424T211716
CREATED:20230109T175834Z
LAST-MODIFIED:20230216T160657Z
UID:4249-1676710800-1676743200@godfreyspond.com
SUMMARY:Clubhouse Reserved
DESCRIPTION:Clubhouse Reserved \nSweeney9:00am- 6:00pm \n
URL:https://godfreyspond.com/calendar/clubhouse-reserved-136/
CATEGORIES:Reservations
END:VEVENT
END:VCALENDAR