BEGIN:VCALENDAR
VERSION:2.0
PRODID:-//Welcome to Godfrey&#039;s Pond - ECPv4.7.3//NONSGML v1.0//EN
CALSCALE:GREGORIAN
METHOD:PUBLISH
X-WR-CALNAME:Welcome to Godfrey&#039;s Pond
X-ORIGINAL-URL:https://godfreyspond.com
X-WR-CALDESC:Events for Welcome to Godfrey&#039;s Pond
BEGIN:VEVENT
DTSTART;TZID=America/New_York:20230205T110000
DTEND;TZID=America/New_York:20230205T190000
DTSTAMP:20260425T011815
CREATED:20230113T194423Z
LAST-MODIFIED:20230216T160715Z
UID:4258-1675594800-1675623600@godfreyspond.com
SUMMARY:Clubhouse Reserved
DESCRIPTION:Clubhouse Reserved \nRosenbeck \n11:00am- 7:00pm \n
URL:https://godfreyspond.com/calendar/clubhouse-reserved-139/
CATEGORIES:Reservations
END:VEVENT
END:VCALENDAR