BEGIN:VCALENDAR
VERSION:2.0
PRODID:-//Welcome to Godfrey&#039;s Pond - ECPv4.7.3//NONSGML v1.0//EN
CALSCALE:GREGORIAN
METHOD:PUBLISH
X-WR-CALNAME:Welcome to Godfrey&#039;s Pond
X-ORIGINAL-URL:https://godfreyspond.com
X-WR-CALDESC:Events for Welcome to Godfrey&#039;s Pond
BEGIN:VEVENT
DTSTART;TZID=America/New_York:20231124T140000
DTEND;TZID=America/New_York:20231124T200000
DTSTAMP:20260421T235133
CREATED:20230210T171203Z
LAST-MODIFIED:20230216T161114Z
UID:4317-1700834400-1700856000@godfreyspond.com
SUMMARY:Clubhouse Reserved
DESCRIPTION:Clubhouse Reserved \nVanelli \n2:23pm- 8:00pm \n
URL:https://godfreyspond.com/calendar/clubhouse-reserved-143/
CATEGORIES:Reservations
END:VEVENT
END:VCALENDAR