BEGIN:VCALENDAR
VERSION:2.0
PRODID:-//Welcome to Godfrey&#039;s Pond - ECPv4.7.3//NONSGML v1.0//EN
CALSCALE:GREGORIAN
METHOD:PUBLISH
X-WR-CALNAME:Welcome to Godfrey&#039;s Pond
X-ORIGINAL-URL:https://godfreyspond.com
X-WR-CALDESC:Events for Welcome to Godfrey&#039;s Pond
BEGIN:VEVENT
DTSTART;TZID=America/New_York:20230603T110000
DTEND;TZID=America/New_York:20230603T200000
DTSTAMP:20260424T145409
CREATED:20230210T171304Z
LAST-MODIFIED:20230216T160519Z
UID:4319-1685790000-1685822400@godfreyspond.com
SUMMARY:Clubhouse Reserved
DESCRIPTION:Clubhouse Reserved \nVanelli \n11:00am- 8:00pm \n
URL:https://godfreyspond.com/calendar/clubhouse-reserved-144/
CATEGORIES:Reservations
END:VEVENT
END:VCALENDAR