BEGIN:VCALENDAR
VERSION:2.0
PRODID:-//Welcome to Godfrey&#039;s Pond - ECPv4.7.3//NONSGML v1.0//EN
CALSCALE:GREGORIAN
METHOD:PUBLISH
X-WR-CALNAME:Welcome to Godfrey&#039;s Pond
X-ORIGINAL-URL:https://godfreyspond.com
X-WR-CALDESC:Events for Welcome to Godfrey&#039;s Pond
BEGIN:VEVENT
DTSTART;TZID=America/New_York:20231119T110000
DTEND;TZID=America/New_York:20231119T170000
DTSTAMP:20260421T183123
CREATED:20230711T204623Z
LAST-MODIFIED:20231220T215950Z
UID:4702-1700391600-1700413200@godfreyspond.com
SUMMARY:Clubhouse Reserved
DESCRIPTION:Clubhouse Reserved \nGraff \n11:00am- 5:00pm \n
URL:https://godfreyspond.com/calendar/clubhouse-reserved-179/
CATEGORIES:Reservations
END:VEVENT
END:VCALENDAR