BEGIN:VCALENDAR
VERSION:2.0
PRODID:-//Welcome to Godfrey&#039;s Pond - ECPv4.7.3//NONSGML v1.0//EN
CALSCALE:GREGORIAN
METHOD:PUBLISH
X-WR-CALNAME:Welcome to Godfrey&#039;s Pond
X-ORIGINAL-URL:https://godfreyspond.com
X-WR-CALDESC:Events for Welcome to Godfrey&#039;s Pond
BEGIN:VEVENT
DTSTART;TZID=America/New_York:20230708T090000
DTEND;TZID=America/New_York:20230708T210000
DTSTAMP:20260424T083929
CREATED:20230616T195856Z
LAST-MODIFIED:20230616T195856Z
UID:4650-1688806800-1688850000@godfreyspond.com
SUMMARY:Clubhouse Reserved
DESCRIPTION:Clubhouse Reserved \nSutton \n9:00am- 9:00pm \n
URL:https://godfreyspond.com/calendar/clubhouse-reserved-180/
CATEGORIES:Public,Reservations
END:VEVENT
END:VCALENDAR