BEGIN:VCALENDAR
VERSION:2.0
PRODID:-//Welcome to Godfrey&#039;s Pond - ECPv4.7.3//NONSGML v1.0//EN
CALSCALE:GREGORIAN
METHOD:PUBLISH
X-WR-CALNAME:Welcome to Godfrey&#039;s Pond
X-ORIGINAL-URL:https://godfreyspond.com
X-WR-CALDESC:Events for Welcome to Godfrey&#039;s Pond
BEGIN:VEVENT
DTSTART;TZID=America/New_York:20231104T100000
DTEND;TZID=America/New_York:20231104T170000
DTSTAMP:20260421T222551
CREATED:20230711T204923Z
LAST-MODIFIED:20231220T220033Z
UID:4706-1699092000-1699117200@godfreyspond.com
SUMMARY:Clubhouse Reserved
DESCRIPTION:Clubhouse Reserved \nGriffith \n10:00am- 5:00pm \n
URL:https://godfreyspond.com/calendar/clubhouse-reserved-181/
CATEGORIES:Reservations
END:VEVENT
END:VCALENDAR