BEGIN:VCALENDAR
VERSION:2.0
PRODID:-//Welcome to Godfrey&#039;s Pond - ECPv4.7.3//NONSGML v1.0//EN
CALSCALE:GREGORIAN
METHOD:PUBLISH
X-WR-CALNAME:Welcome to Godfrey&#039;s Pond
X-ORIGINAL-URL:https://godfreyspond.com
X-WR-CALDESC:Events for Welcome to Godfrey&#039;s Pond
BEGIN:VEVENT
DTSTART;TZID=America/New_York:20230819T090000
DTEND;TZID=America/New_York:20230819T210000
DTSTAMP:20260424T161520
CREATED:20230719T205914Z
LAST-MODIFIED:20230719T205914Z
UID:4726-1692435600-1692478800@godfreyspond.com
SUMMARY:Clubhouse Reserved
DESCRIPTION:Clubhouse Reserved \nSutton \n9:00am- 9:00pm \n
URL:https://godfreyspond.com/calendar/clubhouse-reserved-184/
CATEGORIES:Public,Reservations
END:VEVENT
END:VCALENDAR