BEGIN:VCALENDAR
VERSION:2.0
PRODID:-//Welcome to Godfrey&#039;s Pond - ECPv4.7.3//NONSGML v1.0//EN
CALSCALE:GREGORIAN
METHOD:PUBLISH
X-WR-CALNAME:Welcome to Godfrey&#039;s Pond
X-ORIGINAL-URL:https://godfreyspond.com
X-WR-CALDESC:Events for Welcome to Godfrey&#039;s Pond
BEGIN:VEVENT
DTSTART;TZID=America/New_York:20231007T120000
DTEND;TZID=America/New_York:20231007T170000
DTSTAMP:20260421T215854
CREATED:20230804T003533Z
LAST-MODIFIED:20230804T003533Z
UID:4740-1696680000-1696698000@godfreyspond.com
SUMMARY:Clubhouse Reserved
DESCRIPTION:Clubhouse Reserved \nWeiser \n12:00pm- 5:00pm \n
URL:https://godfreyspond.com/calendar/clubhouse-reserved-189/
CATEGORIES:Public,Reservations
END:VEVENT
END:VCALENDAR