BEGIN:VCALENDAR
VERSION:2.0
PRODID:-//Welcome to Godfrey&#039;s Pond - ECPv4.7.3//NONSGML v1.0//EN
CALSCALE:GREGORIAN
METHOD:PUBLISH
X-WR-CALNAME:Welcome to Godfrey&#039;s Pond
X-ORIGINAL-URL:https://godfreyspond.com
X-WR-CALDESC:Events for Welcome to Godfrey&#039;s Pond
BEGIN:VEVENT
DTSTART;TZID=America/New_York:20210801T110000
DTEND;TZID=America/New_York:20210801T200000
DTSTAMP:20260426T001203
CREATED:20210510T124125Z
LAST-MODIFIED:20210716T152105Z
UID:2737-1627815600-1627848000@godfreyspond.com
SUMMARY:Clubhouse Reserved
DESCRIPTION:Clubhouse Reserved \nOlschewski \n11:00am- 8:00pm \n
URL:https://godfreyspond.com/calendar/clubhouse-reserved-19/
CATEGORIES:Reservations
END:VEVENT
END:VCALENDAR