BEGIN:VCALENDAR
VERSION:2.0
PRODID:-//Welcome to Godfrey&#039;s Pond - ECPv4.7.3//NONSGML v1.0//EN
CALSCALE:GREGORIAN
METHOD:PUBLISH
X-WR-CALNAME:Welcome to Godfrey&#039;s Pond
X-ORIGINAL-URL:https://godfreyspond.com
X-WR-CALDESC:Events for Welcome to Godfrey&#039;s Pond
BEGIN:VEVENT
DTSTART;TZID=America/New_York:20230909T120000
DTEND;TZID=America/New_York:20230909T170000
DTSTAMP:20260422T000451
CREATED:20230804T003824Z
LAST-MODIFIED:20230804T003824Z
UID:4742-1694260800-1694278800@godfreyspond.com
SUMMARY:Clubhouse Reserved
DESCRIPTION:Clubhouse Reserved \nIvison \n12:00pm- 5:00pm \n
URL:https://godfreyspond.com/calendar/clubhouse-reserved-190/
CATEGORIES:Public,Reservations
END:VEVENT
END:VCALENDAR