BEGIN:VCALENDAR
VERSION:2.0
PRODID:-//Welcome to Godfrey&#039;s Pond - ECPv4.7.3//NONSGML v1.0//EN
CALSCALE:GREGORIAN
METHOD:PUBLISH
X-WR-CALNAME:Welcome to Godfrey&#039;s Pond
X-ORIGINAL-URL:https://godfreyspond.com
X-WR-CALDESC:Events for Welcome to Godfrey&#039;s Pond
BEGIN:VEVENT
DTSTART;TZID=America/New_York:20230910T100000
DTEND;TZID=America/New_York:20230910T180000
DTSTAMP:20260421T200707
CREATED:20230811T004739Z
LAST-MODIFIED:20230811T004739Z
UID:4763-1694340000-1694368800@godfreyspond.com
SUMMARY:Clubhouse Reserved
DESCRIPTION:Clubhouse Reserved \nKing \n10:00am – 6:00pm \n
URL:https://godfreyspond.com/calendar/clubhouse-reserved-192/
CATEGORIES:Public,Reservations
END:VEVENT
END:VCALENDAR