BEGIN:VCALENDAR
VERSION:2.0
PRODID:-//Welcome to Godfrey&#039;s Pond - ECPv4.7.3//NONSGML v1.0//EN
CALSCALE:GREGORIAN
METHOD:PUBLISH
X-WR-CALNAME:Welcome to Godfrey&#039;s Pond
X-ORIGINAL-URL:https://godfreyspond.com
X-WR-CALDESC:Events for Welcome to Godfrey&#039;s Pond
BEGIN:VEVENT
DTSTART;TZID=America/New_York:20231203T110000
DTEND;TZID=America/New_York:20231203T180000
DTSTAMP:20260424T140731
CREATED:20231105T172035Z
LAST-MODIFIED:20231220T215916Z
UID:4942-1701601200-1701626400@godfreyspond.com
SUMMARY:Clubhouse Reserved
DESCRIPTION:Clubhouse Reserved \nVanChieri \n11:00am- 6:00pm \n
URL:https://godfreyspond.com/calendar/clubhouse-reserved-201/
CATEGORIES:Reservations
END:VEVENT
END:VCALENDAR