BEGIN:VCALENDAR
VERSION:2.0
PRODID:-//Welcome to Godfrey&#039;s Pond - ECPv4.7.3//NONSGML v1.0//EN
CALSCALE:GREGORIAN
METHOD:PUBLISH
X-WR-CALNAME:Welcome to Godfrey&#039;s Pond
X-ORIGINAL-URL:https://godfreyspond.com
X-WR-CALDESC:Events for Welcome to Godfrey&#039;s Pond
BEGIN:VEVENT
DTSTART;TZID=America/New_York:20231231T080000
DTEND;TZID=America/New_York:20231231T220000
DTSTAMP:20260421T221135
CREATED:20231105T172910Z
LAST-MODIFIED:20231220T215742Z
UID:4944-1704009600-1704060000@godfreyspond.com
SUMMARY:Clubhouse Reserved
DESCRIPTION:Clubhouse Reserved \nBrown \n8:00am- 10:00pm \n
URL:https://godfreyspond.com/calendar/clubhouse-reserved-202/
CATEGORIES:Reservations
END:VEVENT
END:VCALENDAR