BEGIN:VCALENDAR
VERSION:2.0
PRODID:-//Welcome to Godfrey&#039;s Pond - ECPv4.7.3//NONSGML v1.0//EN
CALSCALE:GREGORIAN
METHOD:PUBLISH
X-WR-CALNAME:Welcome to Godfrey&#039;s Pond
X-ORIGINAL-URL:https://godfreyspond.com
X-WR-CALDESC:Events for Welcome to Godfrey&#039;s Pond
BEGIN:VEVENT
DTSTART;TZID=America/New_York:20240113T120000
DTEND;TZID=America/New_York:20240113T200000
DTSTAMP:20260421T200830
CREATED:20231105T173222Z
LAST-MODIFIED:20231220T215728Z
UID:4946-1705147200-1705176000@godfreyspond.com
SUMMARY:Clubhouse Reserved
DESCRIPTION:Clubhouse Reserved \nVenuto \n12:00pm- 8:00pm \n
URL:https://godfreyspond.com/calendar/clubhouse-reserved-203/
CATEGORIES:Reservations
END:VEVENT
END:VCALENDAR