BEGIN:VCALENDAR
VERSION:2.0
PRODID:-//Welcome to Godfrey&#039;s Pond - ECPv4.7.3//NONSGML v1.0//EN
CALSCALE:GREGORIAN
METHOD:PUBLISH
X-WR-CALNAME:Welcome to Godfrey&#039;s Pond
X-ORIGINAL-URL:https://godfreyspond.com
X-WR-CALDESC:Events for Welcome to Godfrey&#039;s Pond
BEGIN:VEVENT
DTSTART;TZID=America/New_York:20241013T080000
DTEND;TZID=America/New_York:20241013T230000
DTSTAMP:20260420T192905
CREATED:20240106T193923Z
LAST-MODIFIED:20240213T130549Z
UID:5067-1728806400-1728860400@godfreyspond.com
SUMMARY:Clubhouse Reserved
DESCRIPTION:Clubhouse Reserved \nGillard \n8:00am- 11:00pm \n
URL:https://godfreyspond.com/calendar/clubhouse-reserved-207/
CATEGORIES:Reservations
END:VEVENT
END:VCALENDAR