BEGIN:VCALENDAR
VERSION:2.0
PRODID:-//Welcome to Godfrey&#039;s Pond - ECPv4.7.3//NONSGML v1.0//EN
CALSCALE:GREGORIAN
METHOD:PUBLISH
X-WR-CALNAME:Welcome to Godfrey&#039;s Pond
X-ORIGINAL-URL:https://godfreyspond.com
X-WR-CALDESC:Events for Welcome to Godfrey&#039;s Pond
BEGIN:VEVENT
DTSTART;TZID=America/New_York:20240419T160000
DTEND;TZID=America/New_York:20240421T140000
DTSTAMP:20260421T054037
CREATED:20240117T192300Z
LAST-MODIFIED:20240213T130909Z
UID:5116-1713542400-1713708000@godfreyspond.com
SUMMARY:Clubhouse reserved
DESCRIPTION:Clubhouse Reserved \nGubb- Boy Scout Troop 6017 \nApril 19- 4:00pm- April 21- 2:00pm \n
URL:https://godfreyspond.com/calendar/clubhouse-reserved-216/
CATEGORIES:Reservations
END:VEVENT
END:VCALENDAR