BEGIN:VCALENDAR
VERSION:2.0
PRODID:-//Welcome to Godfrey&#039;s Pond - ECPv4.7.3//NONSGML v1.0//EN
CALSCALE:GREGORIAN
METHOD:PUBLISH
X-WR-CALNAME:Welcome to Godfrey&#039;s Pond
X-ORIGINAL-URL:https://godfreyspond.com
X-WR-CALDESC:Events for Welcome to Godfrey&#039;s Pond
BEGIN:VEVENT
DTSTART;TZID=America/New_York:20240217T110000
DTEND;TZID=America/New_York:20240217T163000
DTSTAMP:20260421T103912
CREATED:20240209T025731Z
LAST-MODIFIED:20240209T165239Z
UID:5164-1708167600-1708187400@godfreyspond.com
SUMMARY:Clubhouse Reserved
DESCRIPTION:Clubhouse Reserved \nLaird \n11:00pm- 4:30pm \n
URL:https://godfreyspond.com/calendar/clubhouse-reserved-222/
CATEGORIES:Public,Reservations
END:VEVENT
END:VCALENDAR