BEGIN:VCALENDAR
VERSION:2.0
PRODID:-//Welcome to Godfrey&#039;s Pond - ECPv4.7.3//NONSGML v1.0//EN
CALSCALE:GREGORIAN
METHOD:PUBLISH
X-WR-CALNAME:Welcome to Godfrey&#039;s Pond
X-ORIGINAL-URL:https://godfreyspond.com
X-WR-CALDESC:Events for Welcome to Godfrey&#039;s Pond
BEGIN:VEVENT
DTSTART;TZID=America/New_York:20240908T113000
DTEND;TZID=America/New_York:20240908T160000
DTSTAMP:20260420T205016
CREATED:20240209T030017Z
LAST-MODIFIED:20240213T130607Z
UID:5166-1725795000-1725811200@godfreyspond.com
SUMMARY:Clubhouse Reserved
DESCRIPTION:Clubhouse Reserved \nThompson \n11:30am- 4:00pm \n
URL:https://godfreyspond.com/calendar/clubhouse-reserved-223/
CATEGORIES:Reservations
END:VEVENT
END:VCALENDAR