BEGIN:VCALENDAR
VERSION:2.0
PRODID:-//Welcome to Godfrey&#039;s Pond - ECPv4.7.3//NONSGML v1.0//EN
CALSCALE:GREGORIAN
METHOD:PUBLISH
X-WR-CALNAME:Welcome to Godfrey&#039;s Pond
X-ORIGINAL-URL:https://godfreyspond.com
X-WR-CALDESC:Events for Welcome to Godfrey&#039;s Pond
BEGIN:VEVENT
DTSTART;TZID=America/New_York:20240818T090000
DTEND;TZID=America/New_York:20240818T170000
DTSTAMP:20260421T001109
CREATED:20240221T225907Z
LAST-MODIFIED:20240312T211652Z
UID:5216-1723971600-1724000400@godfreyspond.com
SUMMARY:Clubhouse Reserved
DESCRIPTION:Clubhouse Reserved \nScroger \n9:00am- 5:00pm \n
URL:https://godfreyspond.com/calendar/clubhouse-reserved-224/
CATEGORIES:Reservations
END:VEVENT
END:VCALENDAR