BEGIN:VCALENDAR
VERSION:2.0
PRODID:-//Welcome to Godfrey&#039;s Pond - ECPv4.7.3//NONSGML v1.0//EN
CALSCALE:GREGORIAN
METHOD:PUBLISH
X-WR-CALNAME:Welcome to Godfrey&#039;s Pond
X-ORIGINAL-URL:https://godfreyspond.com
X-WR-CALDESC:Events for Welcome to Godfrey&#039;s Pond
BEGIN:VEVENT
DTSTART;TZID=America/New_York:20240518T100000
DTEND;TZID=America/New_York:20240518T200000
DTSTAMP:20260421T054028
CREATED:20240221T230043Z
LAST-MODIFIED:20240312T211423Z
UID:5218-1716026400-1716062400@godfreyspond.com
SUMMARY:Clubhouse Reserved
DESCRIPTION:Clubhouse Reserved \nRichardson \n10:00am- 8:00pm \n
URL:https://godfreyspond.com/calendar/clubhouse-reserved-225/
CATEGORIES:Reservations
END:VEVENT
END:VCALENDAR