BEGIN:VCALENDAR
VERSION:2.0
PRODID:-//Welcome to Godfrey&#039;s Pond - ECPv4.7.3//NONSGML v1.0//EN
CALSCALE:GREGORIAN
METHOD:PUBLISH
X-WR-CALNAME:Welcome to Godfrey&#039;s Pond
X-ORIGINAL-URL:https://godfreyspond.com
X-WR-CALDESC:Events for Welcome to Godfrey&#039;s Pond
BEGIN:VEVENT
DTSTART;TZID=America/New_York:20240330T140000
DTEND;TZID=America/New_York:20240330T180000
DTSTAMP:20260425T122611
CREATED:20240305T024117Z
LAST-MODIFIED:20240312T211125Z
UID:5243-1711807200-1711821600@godfreyspond.com
SUMMARY:Clubhouse Reserved
DESCRIPTION:Clubhouse Reserved \nGaldun \n2:00pm- 6:00pm \n
URL:https://godfreyspond.com/calendar/clubhouse-reserved-227/
CATEGORIES:Reservations
END:VEVENT
END:VCALENDAR