BEGIN:VCALENDAR
VERSION:2.0
PRODID:-//Welcome to Godfrey&#039;s Pond - ECPv4.7.3//NONSGML v1.0//EN
CALSCALE:GREGORIAN
METHOD:PUBLISH
X-WR-CALNAME:Welcome to Godfrey&#039;s Pond
X-ORIGINAL-URL:https://godfreyspond.com
X-WR-CALDESC:Events for Welcome to Godfrey&#039;s Pond
BEGIN:VEVENT
DTSTART;TZID=America/New_York:20240728T130000
DTEND;TZID=America/New_York:20240728T190000
DTSTAMP:20260420T221512
CREATED:20240421T142212Z
LAST-MODIFIED:20240530T192615Z
UID:5468-1722171600-1722193200@godfreyspond.com
SUMMARY:Clubhouse Reserved
DESCRIPTION:Clubhouse Reserved \nPenn \n1:00pm- 7:00pm \n
URL:https://godfreyspond.com/calendar/clubhouse-reserved-236/
CATEGORIES:Reservations
END:VEVENT
END:VCALENDAR