BEGIN:VCALENDAR
VERSION:2.0
PRODID:-//Welcome to Godfrey&#039;s Pond - ECPv4.7.3//NONSGML v1.0//EN
CALSCALE:GREGORIAN
METHOD:PUBLISH
X-WR-CALNAME:Welcome to Godfrey&#039;s Pond
X-ORIGINAL-URL:https://godfreyspond.com
X-WR-CALDESC:Events for Welcome to Godfrey&#039;s Pond
BEGIN:VEVENT
DTSTART;TZID=America/New_York:20240803T100000
DTEND;TZID=America/New_York:20240803T210000
DTSTAMP:20260421T001107
CREATED:20240428T012401Z
LAST-MODIFIED:20240428T012401Z
UID:5476-1722679200-1722718800@godfreyspond.com
SUMMARY:Clubhouse Reserved
DESCRIPTION:Clubhouse Reserved \nDilcher \n10:00am- 9:00pm \n
URL:https://godfreyspond.com/calendar/clubhouse-reserved-239/
CATEGORIES:Public,Reservations
END:VEVENT
END:VCALENDAR