BEGIN:VCALENDAR
VERSION:2.0
PRODID:-//Welcome to Godfrey&#039;s Pond - ECPv4.7.3//NONSGML v1.0//EN
CALSCALE:GREGORIAN
METHOD:PUBLISH
X-WR-CALNAME:Welcome to Godfrey&#039;s Pond
X-ORIGINAL-URL:https://godfreyspond.com
X-WR-CALDESC:Events for Welcome to Godfrey&#039;s Pond
BEGIN:VEVENT
DTSTART;TZID=America/New_York:20241005T100000
DTEND;TZID=America/New_York:20241005T220000
DTSTAMP:20260420T183616
CREATED:20240703T164904Z
LAST-MODIFIED:20240826T103427Z
UID:5755-1728122400-1728165600@godfreyspond.com
SUMMARY:Clubhouse Reserved
DESCRIPTION:Clubhouse Reserved \nColella \n10:00am- 10:00pm \n
URL:https://godfreyspond.com/calendar/clubhouse-reserved-245/
CATEGORIES:Reservations
END:VEVENT
END:VCALENDAR