BEGIN:VCALENDAR
VERSION:2.0
PRODID:-//Welcome to Godfrey&#039;s Pond - ECPv4.7.3//NONSGML v1.0//EN
CALSCALE:GREGORIAN
METHOD:PUBLISH
X-WR-CALNAME:Welcome to Godfrey&#039;s Pond
X-ORIGINAL-URL:https://godfreyspond.com
X-WR-CALDESC:Events for Welcome to Godfrey&#039;s Pond
BEGIN:VEVENT
DTSTART;TZID=America/New_York:20210704T110000
DTEND;TZID=America/New_York:20210704T220000
DTSTAMP:20260426T020342
CREATED:20210526T145415Z
LAST-MODIFIED:20210526T145415Z
UID:2807-1625396400-1625436000@godfreyspond.com
SUMMARY:Clubhouse Reserved
DESCRIPTION:Clubhouse Reserved \nCanazzi \n11:00am- 10:00pm \n
URL:https://godfreyspond.com/calendar/clubhouse-reserved-25/
CATEGORIES:Public,Reservations
END:VEVENT
END:VCALENDAR