BEGIN:VCALENDAR
VERSION:2.0
PRODID:-//Welcome to Godfrey&#039;s Pond - ECPv4.7.3//NONSGML v1.0//EN
CALSCALE:GREGORIAN
METHOD:PUBLISH
X-WR-CALNAME:Welcome to Godfrey&#039;s Pond
X-ORIGINAL-URL:https://godfreyspond.com
X-WR-CALDESC:Events for Welcome to Godfrey&#039;s Pond
BEGIN:VEVENT
DTSTART;TZID=America/New_York:20210703T120000
DTEND;TZID=America/New_York:20210703T170000
DTSTAMP:20260426T040358
CREATED:20210616T134147Z
LAST-MODIFIED:20210616T134147Z
UID:2893-1625313600-1625331600@godfreyspond.com
SUMMARY:Clubhouse Reserved
DESCRIPTION:Clubhouse Reserved \nDel Rosario \n12:00pm- 4:00pm \n
URL:https://godfreyspond.com/calendar/clubhouse-reserved-27/
CATEGORIES:Public,Reservations
END:VEVENT
END:VCALENDAR