BEGIN:VCALENDAR
VERSION:2.0
PRODID:-//Welcome to Godfrey&#039;s Pond - ECPv4.7.3//NONSGML v1.0//EN
CALSCALE:GREGORIAN
METHOD:PUBLISH
X-WR-CALNAME:Welcome to Godfrey&#039;s Pond
X-ORIGINAL-URL:https://godfreyspond.com
X-WR-CALDESC:Events for Welcome to Godfrey&#039;s Pond
BEGIN:VEVENT
DTSTART;TZID=America/New_York:20210904T120000
DTEND;TZID=America/New_York:20210904T200000
DTSTAMP:20260425T223958
CREATED:20210618T134320Z
LAST-MODIFIED:20210716T152347Z
UID:2913-1630756800-1630785600@godfreyspond.com
SUMMARY:Clubhouse Reserved
DESCRIPTION:Clubhouse Reserved \nPratt \n12:00pm- 8:00pm \n
URL:https://godfreyspond.com/calendar/clubhouse-reserved-29/
CATEGORIES:Reservations
END:VEVENT
END:VCALENDAR