BEGIN:VCALENDAR
VERSION:2.0
PRODID:-//Welcome to Godfrey&#039;s Pond - ECPv4.7.3//NONSGML v1.0//EN
CALSCALE:GREGORIAN
METHOD:PUBLISH
X-WR-CALNAME:Welcome to Godfrey&#039;s Pond
X-ORIGINAL-URL:https://godfreyspond.com
X-WR-CALDESC:Events for Welcome to Godfrey&#039;s Pond
BEGIN:VEVENT
DTSTART;TZID=America/New_York:20211009T100000
DTEND;TZID=America/New_York:20211009T210000
DTSTAMP:20260426T010055
CREATED:20210226T142615Z
LAST-MODIFIED:20210716T152445Z
UID:2576-1633773600-1633813200@godfreyspond.com
SUMMARY:Clubhouse Reserved
DESCRIPTION:Clubhouse Reserved \nDilcher \n10:00am- 9:00pm \n
URL:https://godfreyspond.com/calendar/clubhouse-reserved-3/
CATEGORIES:Reservations
END:VEVENT
END:VCALENDAR