BEGIN:VCALENDAR
VERSION:2.0
PRODID:-//Welcome to Godfrey&#039;s Pond - ECPv4.7.3//NONSGML v1.0//EN
CALSCALE:GREGORIAN
METHOD:PUBLISH
X-WR-CALNAME:Welcome to Godfrey&#039;s Pond
X-ORIGINAL-URL:https://godfreyspond.com
X-WR-CALDESC:Events for Welcome to Godfrey&#039;s Pond
BEGIN:VEVENT
DTSTART;TZID=America/New_York:20211121T120000
DTEND;TZID=America/New_York:20211121T190000
DTSTAMP:20260425T232333
CREATED:20210708T112441Z
LAST-MODIFIED:20211019T131101Z
UID:2946-1637496000-1637521200@godfreyspond.com
SUMMARY:Clubhouse Reserved
DESCRIPTION:Clubhouse Reserved \nLee \n12:00pm- 7:00pm \n
URL:https://godfreyspond.com/calendar/clubhouse-reserved-33/
CATEGORIES:Reservations
END:VEVENT
END:VCALENDAR