BEGIN:VCALENDAR
VERSION:2.0
PRODID:-//Welcome to Godfrey&#039;s Pond - ECPv4.7.3//NONSGML v1.0//EN
CALSCALE:GREGORIAN
METHOD:PUBLISH
X-WR-CALNAME:Welcome to Godfrey&#039;s Pond
X-ORIGINAL-URL:https://godfreyspond.com
X-WR-CALDESC:Events for Welcome to Godfrey&#039;s Pond
BEGIN:VEVENT
DTSTART;TZID=America/New_York:20260504T170000
DTEND;TZID=America/New_York:20260504T203000
DTSTAMP:20260425T202137
CREATED:20260425T164907Z
LAST-MODIFIED:20260425T164907Z
UID:7682-1777914000-1777926600@godfreyspond.com
SUMMARY:Clubhouse Reserved
DESCRIPTION:Clubhouse Reserved \nDeBerger \n5:00pm- 8:30pm \n
URL:https://godfreyspond.com/calendar/clubhouse-reserved-332/
CATEGORIES:Public,Reservations
END:VEVENT
END:VCALENDAR