BEGIN:VCALENDAR
VERSION:2.0
PRODID:-//Welcome to Godfrey&#039;s Pond - ECPv4.7.3//NONSGML v1.0//EN
CALSCALE:GREGORIAN
METHOD:PUBLISH
X-WR-CALNAME:Welcome to Godfrey&#039;s Pond
X-ORIGINAL-URL:https://godfreyspond.com
X-WR-CALDESC:Events for Welcome to Godfrey&#039;s Pond
BEGIN:VEVENT
DTSTART;TZID=America/New_York:20210925T150000
DTEND;TZID=America/New_York:20210925T200000
DTSTAMP:20260425T223958
CREATED:20210731T132823Z
LAST-MODIFIED:20210803T133922Z
UID:3050-1632582000-1632600000@godfreyspond.com
SUMMARY:Clubhouse Reserved
DESCRIPTION:Clubhouse Reserved \nMcElwain \n3:00pm- 8:00pm \n
URL:https://godfreyspond.com/calendar/clubhouse-reserved-36/
CATEGORIES:Reservations
END:VEVENT
END:VCALENDAR