BEGIN:VCALENDAR
VERSION:2.0
PRODID:-//Welcome to Godfrey&#039;s Pond - ECPv4.7.3//NONSGML v1.0//EN
CALSCALE:GREGORIAN
METHOD:PUBLISH
X-WR-CALNAME:Welcome to Godfrey&#039;s Pond
X-ORIGINAL-URL:https://godfreyspond.com
X-WR-CALDESC:Events for Welcome to Godfrey&#039;s Pond
BEGIN:VEVENT
DTSTART;TZID=America/New_York:20211120T120000
DTEND;TZID=America/New_York:20211120T200000
DTSTAMP:20260425T232332
CREATED:20210819T112752Z
LAST-MODIFIED:20211019T131051Z
UID:3085-1637409600-1637438400@godfreyspond.com
SUMMARY:Clubhouse Reserved
DESCRIPTION:Clubhouse Resserved \nLandry \n12:00pm- 8:00pm \n
URL:https://godfreyspond.com/calendar/clubhouse-reserved-41/
CATEGORIES:Reservations
END:VEVENT
END:VCALENDAR