BEGIN:VCALENDAR
VERSION:2.0
PRODID:-//Welcome to Godfrey&#039;s Pond - ECPv4.7.3//NONSGML v1.0//EN
CALSCALE:GREGORIAN
METHOD:PUBLISH
X-WR-CALNAME:Welcome to Godfrey&#039;s Pond
X-ORIGINAL-URL:https://godfreyspond.com
X-WR-CALDESC:Events for Welcome to Godfrey&#039;s Pond
BEGIN:VEVENT
DTSTART;TZID=America/New_York:20211106T080000
DTEND;TZID=America/New_York:20211106T220000
DTSTAMP:20260426T001206
CREATED:20210910T201241Z
LAST-MODIFIED:20211019T131002Z
UID:3134-1636185600-1636236000@godfreyspond.com
SUMMARY:Clubhouse Reserved
DESCRIPTION:Clubhouse reserved \nCanfield \n8:00am- 10:00pm \n
URL:https://godfreyspond.com/calendar/clubhouse-reserved-43/
CATEGORIES:Reservations
END:VEVENT
END:VCALENDAR