BEGIN:VCALENDAR
VERSION:2.0
PRODID:-//Welcome to Godfrey&#039;s Pond - ECPv4.7.3//NONSGML v1.0//EN
CALSCALE:GREGORIAN
METHOD:PUBLISH
X-WR-CALNAME:Welcome to Godfrey&#039;s Pond
X-ORIGINAL-URL:https://godfreyspond.com
X-WR-CALDESC:Events for Welcome to Godfrey&#039;s Pond
BEGIN:VEVENT
DTSTART;TZID=America/New_York:20211023T150000
DTEND;TZID=America/New_York:20211023T190000
DTSTAMP:20260426T043142
CREATED:20210916T151707Z
LAST-MODIFIED:20211019T130703Z
UID:3161-1635001200-1635015600@godfreyspond.com
SUMMARY:Clubhouse Reserved
DESCRIPTION:Clubhouse reserved \nSchultz \n3:00pm- 7:00pm \n
URL:https://godfreyspond.com/calendar/clubhouse-reserved-45/
CATEGORIES:Reservations
END:VEVENT
END:VCALENDAR