BEGIN:VCALENDAR
VERSION:2.0
PRODID:-//Welcome to Godfrey&#039;s Pond - ECPv4.7.3//NONSGML v1.0//EN
CALSCALE:GREGORIAN
METHOD:PUBLISH
X-WR-CALNAME:Welcome to Godfrey&#039;s Pond
X-ORIGINAL-URL:https://godfreyspond.com
X-WR-CALDESC:Events for Welcome to Godfrey&#039;s Pond
BEGIN:VEVENT
DTSTART;TZID=America/New_York:20211016T090000
DTEND;TZID=America/New_York:20211016T210000
DTSTAMP:20260425T223605
CREATED:20211007T182156Z
LAST-MODIFIED:20211007T182156Z
UID:3257-1634374800-1634418000@godfreyspond.com
SUMMARY:Clubhouse Reserved
DESCRIPTION:Clubhouse Reserved \nBelliuscio \n9:00am \n
URL:https://godfreyspond.com/calendar/clubhouse-reserved-50/
CATEGORIES:Public,Reservations
END:VEVENT
END:VCALENDAR