BEGIN:VCALENDAR
VERSION:2.0
PRODID:-//Welcome to Godfrey&#039;s Pond - ECPv4.7.3//NONSGML v1.0//EN
CALSCALE:GREGORIAN
METHOD:PUBLISH
X-WR-CALNAME:Welcome to Godfrey&#039;s Pond
X-ORIGINAL-URL:https://godfreyspond.com
X-WR-CALDESC:Events for Welcome to Godfrey&#039;s Pond
BEGIN:VEVENT
DTSTART;TZID=America/New_York:20211217T160000
DTEND;TZID=America/New_York:20211217T220000
DTSTAMP:20260425T211604
CREATED:20211109T155116Z
LAST-MODIFIED:20211115T152711Z
UID:3305-1639756800-1639778400@godfreyspond.com
SUMMARY:Clubhouse Reserved
DESCRIPTION:Clubhouse Reserved \nBurrs \n4:00pm- 10:00pm \n
URL:https://godfreyspond.com/calendar/clubhouse-reserved-53/
CATEGORIES:Public,Reservations
END:VEVENT
END:VCALENDAR