BEGIN:VCALENDAR
VERSION:2.0
PRODID:-//Welcome to Godfrey&#039;s Pond - ECPv4.7.3//NONSGML v1.0//EN
CALSCALE:GREGORIAN
METHOD:PUBLISH
X-WR-CALNAME:Welcome to Godfrey&#039;s Pond
X-ORIGINAL-URL:https://godfreyspond.com
X-WR-CALDESC:Events for Welcome to Godfrey&#039;s Pond
BEGIN:VEVENT
DTSTART;TZID=America/New_York:20211227T153000
DTEND;TZID=America/New_York:20211227T210000
DTSTAMP:20260425T160754
CREATED:20211209T170549Z
LAST-MODIFIED:20211209T170549Z
UID:3331-1640619000-1640638800@godfreyspond.com
SUMMARY:Clubhouse Reserved
DESCRIPTION:Clubhouse Reserved \nVanelli \n3:30pm- 9:00pm \n
URL:https://godfreyspond.com/calendar/clubhouse-reserved-54/
CATEGORIES:Public,Reservations
END:VEVENT
END:VCALENDAR