BEGIN:VCALENDAR
VERSION:2.0
PRODID:-//Welcome to Godfrey&#039;s Pond - ECPv4.7.3//NONSGML v1.0//EN
CALSCALE:GREGORIAN
METHOD:PUBLISH
X-WR-CALNAME:Welcome to Godfrey&#039;s Pond
X-ORIGINAL-URL:https://godfreyspond.com
X-WR-CALDESC:Events for Welcome to Godfrey&#039;s Pond
BEGIN:VEVENT
DTSTART;TZID=America/New_York:20220122T130000
DTEND;TZID=America/New_York:20220122T170000
DTSTAMP:20260425T172153
CREATED:20211209T172142Z
LAST-MODIFIED:20220115T153952Z
UID:3335-1642856400-1642870800@godfreyspond.com
SUMMARY:Clubhouse Reserved
DESCRIPTION:Clubhouse Reserved \nShultz \n1:00pm- 5:00pm \n
URL:https://godfreyspond.com/calendar/clubhouse-reserved-56/
CATEGORIES:Reservations
END:VEVENT
END:VCALENDAR