BEGIN:VCALENDAR
VERSION:2.0
PRODID:-//Welcome to Godfrey&#039;s Pond - ECPv4.7.3//NONSGML v1.0//EN
CALSCALE:GREGORIAN
METHOD:PUBLISH
X-WR-CALNAME:Welcome to Godfrey&#039;s Pond
X-ORIGINAL-URL:https://godfreyspond.com
X-WR-CALDESC:Events for Welcome to Godfrey&#039;s Pond
BEGIN:VEVENT
DTSTART;TZID=America/New_York:20211223T080000
DTEND;TZID=America/New_York:20211223T210000
DTSTAMP:20260425T223052
CREATED:20211209T172329Z
LAST-MODIFIED:20211209T172329Z
UID:3337-1640246400-1640293200@godfreyspond.com
SUMMARY:Clubhouse Reserved
DESCRIPTION:Clubhouse Reserved \nColella \n8:00am- 9:00pm \n
URL:https://godfreyspond.com/calendar/clubhouse-reserved-57/
CATEGORIES:Public,Reservations
END:VEVENT
END:VCALENDAR