BEGIN:VCALENDAR
VERSION:2.0
PRODID:-//Welcome to Godfrey&#039;s Pond - ECPv4.7.3//NONSGML v1.0//EN
CALSCALE:GREGORIAN
METHOD:PUBLISH
X-WR-CALNAME:Welcome to Godfrey&#039;s Pond
X-ORIGINAL-URL:https://godfreyspond.com
X-WR-CALDESC:Events for Welcome to Godfrey&#039;s Pond
BEGIN:VEVENT
DTSTART;TZID=America/New_York:20220125T183000
DTEND;TZID=America/New_York:20220125T220000
DTSTAMP:20260425T133941
CREATED:20211227T202006Z
LAST-MODIFIED:20220115T154014Z
UID:3407-1643135400-1643148000@godfreyspond.com
SUMMARY:Clubhouse Reserved
DESCRIPTION:Clubhouse Reserved \nRichmond \n6:30pm- 10:00pm \n
URL:https://godfreyspond.com/calendar/clubhouse-reserved-59/
CATEGORIES:Reservations
END:VEVENT
END:VCALENDAR