BEGIN:VCALENDAR
VERSION:2.0
PRODID:-//Welcome to Godfrey&#039;s Pond - ECPv4.7.3//NONSGML v1.0//EN
CALSCALE:GREGORIAN
METHOD:PUBLISH
X-WR-CALNAME:Welcome to Godfrey&#039;s Pond
X-ORIGINAL-URL:https://godfreyspond.com
X-WR-CALDESC:Events for Welcome to Godfrey&#039;s Pond
BEGIN:VEVENT
DTSTART;TZID=America/New_York:20220904T090000
DTEND;TZID=America/New_York:20220904T210000
DTSTAMP:20260425T003715
CREATED:20220114T232002Z
LAST-MODIFIED:20220115T154347Z
UID:3423-1662282000-1662325200@godfreyspond.com
SUMMARY:Clubhouse Reserved
DESCRIPTION:Clubhouse Reserved \nBoss \n9:00am- 9:00pm \n
URL:https://godfreyspond.com/calendar/clubhouse-reserved-61/
CATEGORIES:Reservations
END:VEVENT
END:VCALENDAR