BEGIN:VCALENDAR
VERSION:2.0
PRODID:-//Welcome to Godfrey&#039;s Pond - ECPv4.7.3//NONSGML v1.0//EN
CALSCALE:GREGORIAN
METHOD:PUBLISH
X-WR-CALNAME:Welcome to Godfrey&#039;s Pond
X-ORIGINAL-URL:https://godfreyspond.com
X-WR-CALDESC:Events for Welcome to Godfrey&#039;s Pond
BEGIN:VEVENT
DTSTART;TZID=America/New_York:20221008T100000
DTEND;TZID=America/New_York:20221008T210000
DTSTAMP:20260425T024809
CREATED:20220211T005803Z
LAST-MODIFIED:20220506T120347Z
UID:3522-1665223200-1665262800@godfreyspond.com
SUMMARY:Clubhouse Reserved
DESCRIPTION:Clubhouse Reserved \nDilcher \n10:00am- 9:00pm \n
URL:https://godfreyspond.com/calendar/clubhouse-reserved-65/
CATEGORIES:Reservations
END:VEVENT
END:VCALENDAR