BEGIN:VCALENDAR
VERSION:2.0
PRODID:-//Welcome to Godfrey&#039;s Pond - ECPv4.7.3//NONSGML v1.0//EN
CALSCALE:GREGORIAN
METHOD:PUBLISH
X-WR-CALNAME:Welcome to Godfrey&#039;s Pond
X-ORIGINAL-URL:https://godfreyspond.com
X-WR-CALDESC:Events for Welcome to Godfrey&#039;s Pond
BEGIN:VEVENT
DTSTART;TZID=America/New_York:20220305T150000
DTEND;TZID=America/New_York:20220305T220000
DTSTAMP:20260425T120101
CREATED:20220211T010859Z
LAST-MODIFIED:20220211T010859Z
UID:3524-1646492400-1646517600@godfreyspond.com
SUMMARY:Clubhouse Reserved
DESCRIPTION:Clubhouse Reserved \nKiara \n3:00pm- 10:00pm \n
URL:https://godfreyspond.com/calendar/clubhouse-reserved-66/
CATEGORIES:Public,Reservations
END:VEVENT
END:VCALENDAR