BEGIN:VCALENDAR
VERSION:2.0
PRODID:-//Welcome to Godfrey&#039;s Pond - ECPv4.7.3//NONSGML v1.0//EN
CALSCALE:GREGORIAN
METHOD:PUBLISH
X-WR-CALNAME:Welcome to Godfrey&#039;s Pond
X-ORIGINAL-URL:https://godfreyspond.com
X-WR-CALDESC:Events for Welcome to Godfrey&#039;s Pond
BEGIN:VEVENT
DTSTART;TZID=America/New_York:20220123T100000
DTEND;TZID=America/New_York:20220123T180000
DTSTAMP:20260425T153826
CREATED:20220211T011247Z
LAST-MODIFIED:20220211T011247Z
UID:3528-1642932000-1642960800@godfreyspond.com
SUMMARY:Clubhouse Reserved
DESCRIPTION:Clubhouse Reserved \nWoika \n10:00am- 6:00pm \n
URL:https://godfreyspond.com/calendar/clubhouse-reserved-68/
CATEGORIES:Public,Reservations
END:VEVENT
END:VCALENDAR