BEGIN:VCALENDAR
VERSION:2.0
PRODID:-//Welcome to Godfrey&#039;s Pond - ECPv4.7.3//NONSGML v1.0//EN
CALSCALE:GREGORIAN
METHOD:PUBLISH
X-WR-CALNAME:Welcome to Godfrey&#039;s Pond
X-ORIGINAL-URL:https://godfreyspond.com
X-WR-CALDESC:Events for Welcome to Godfrey&#039;s Pond
BEGIN:VEVENT
DTSTART;TZID=America/New_York:20220716T110000
DTEND;TZID=America/New_York:20220716T200000
DTSTAMP:20260425T154159
CREATED:20220211T011908Z
LAST-MODIFIED:20220506T120030Z
UID:3537-1657969200-1658001600@godfreyspond.com
SUMMARY:Clubhouse Reserved
DESCRIPTION:Clubhouse Reserved \nCanfield \n11:00am- 8:00pm \n
URL:https://godfreyspond.com/calendar/clubhouse-reserved-70/
CATEGORIES:Reservations
END:VEVENT
END:VCALENDAR