BEGIN:VCALENDAR
VERSION:2.0
PRODID:-//Welcome to Godfrey&#039;s Pond - ECPv4.7.3//NONSGML v1.0//EN
CALSCALE:GREGORIAN
METHOD:PUBLISH
X-WR-CALNAME:Welcome to Godfrey&#039;s Pond
X-ORIGINAL-URL:https://godfreyspond.com
X-WR-CALDESC:Events for Welcome to Godfrey&#039;s Pond
BEGIN:VEVENT
DTSTART;TZID=America/New_York:20220224T090000
DTEND;TZID=America/New_York:20220224T150000
DTSTAMP:20260425T133433
CREATED:20220218T163718Z
LAST-MODIFIED:20220218T163718Z
UID:3574-1645693200-1645714800@godfreyspond.com
SUMMARY:Clubhouse Reserved
DESCRIPTION:Clubhouse Reserved \nFisher-Stamp \n9:00am- 3:00pm \n
URL:https://godfreyspond.com/calendar/clubhouse-reserved-74/
CATEGORIES:Public,Reservations
END:VEVENT
END:VCALENDAR