BEGIN:VCALENDAR
VERSION:2.0
PRODID:-//Welcome to Godfrey&#039;s Pond - ECPv4.7.3//NONSGML v1.0//EN
CALSCALE:GREGORIAN
METHOD:PUBLISH
X-WR-CALNAME:Welcome to Godfrey&#039;s Pond
X-ORIGINAL-URL:https://godfreyspond.com
X-WR-CALDESC:Events for Welcome to Godfrey&#039;s Pond
BEGIN:VEVENT
DTSTART;TZID=America/New_York:20220326T120000
DTEND;TZID=America/New_York:20220326T170000
DTSTAMP:20260425T230434
CREATED:20220311T230743Z
LAST-MODIFIED:20220314T223333Z
UID:3624-1648296000-1648314000@godfreyspond.com
SUMMARY:Clubhouse Reserved
DESCRIPTION:Clubhouse Reserved \nCino \n12:00pm- 5:00pm \n
URL:https://godfreyspond.com/calendar/clubhouse-reserved-76/
CATEGORIES:Reservations
END:VEVENT
END:VCALENDAR