BEGIN:VCALENDAR
VERSION:2.0
PRODID:-//Welcome to Godfrey&#039;s Pond - ECPv4.7.3//NONSGML v1.0//EN
CALSCALE:GREGORIAN
METHOD:PUBLISH
X-WR-CALNAME:Welcome to Godfrey&#039;s Pond
X-ORIGINAL-URL:https://godfreyspond.com
X-WR-CALDESC:Events for Welcome to Godfrey&#039;s Pond
BEGIN:VEVENT
DTSTART;TZID=America/New_York:20220717T100000
DTEND;TZID=America/New_York:20220717T170000
DTSTAMP:20260425T114045
CREATED:20220311T231012Z
LAST-MODIFIED:20220506T120042Z
UID:3628-1658052000-1658077200@godfreyspond.com
SUMMARY:Clubhouse Reserved
DESCRIPTION:Clubhouse Reserved \nScroger \n10:00am- 5:00pm \n
URL:https://godfreyspond.com/calendar/clubhouse-reserved-78/
CATEGORIES:Reservations
END:VEVENT
END:VCALENDAR