BEGIN:VCALENDAR
VERSION:2.0
PRODID:-//Welcome to Godfrey&#039;s Pond - ECPv4.7.3//NONSGML v1.0//EN
CALSCALE:GREGORIAN
METHOD:PUBLISH
X-WR-CALNAME:Welcome to Godfrey&#039;s Pond
X-ORIGINAL-URL:https://godfreyspond.com
X-WR-CALDESC:Events for Welcome to Godfrey&#039;s Pond
BEGIN:VEVENT
DTSTART;TZID=America/New_York:20221210T150000
DTEND;TZID=America/New_York:20221210T200000
DTSTAMP:20260424T210333
CREATED:20220401T202804Z
LAST-MODIFIED:20220506T120505Z
UID:3682-1670684400-1670702400@godfreyspond.com
SUMMARY:Clubhouse Reserved
DESCRIPTION:Clubhouse Reserved \nMcNally \n3:00pm- 8:00pm \n
URL:https://godfreyspond.com/calendar/clubhouse-reserved-85/
CATEGORIES:Reservations
END:VEVENT
END:VCALENDAR